BEGIN:VCALENDAR
VERSION:2.0
PRODID:-//A.s.d. GO WEST Roma - ECPv5.14.2.1//NONSGML v1.0//EN
CALSCALE:GREGORIAN
METHOD:PUBLISH
X-WR-CALNAME:A.s.d. GO WEST Roma
X-ORIGINAL-URL:https://www.gowestlinedance.com
X-WR-CALDESC:Eventi per A.s.d. GO WEST Roma
BEGIN:VTIMEZONE
TZID:Europe/Rome
BEGIN:DAYLIGHT
TZOFFSETFROM:+0100
TZOFFSETTO:+0200
TZNAME:CEST
DTSTART:20220327T010000
END:DAYLIGHT
BEGIN:STANDARD
TZOFFSETFROM:+0200
TZOFFSETTO:+0100
TZNAME:CET
DTSTART:20221030T010000
END:STANDARD
END:VTIMEZONE
BEGIN:VEVENT
DTSTART;TZID=Europe/Rome:20221218T110000
DTEND;TZID=Europe/Rome:20221218T183000
DTSTAMP:20260425T023207
CREATED:20221122T125948Z
LAST-MODIFIED:20221207T092720Z
UID:2837-1671361200-1671388200@www.gowestlinedance.com
SUMMARY:Country Christmas Party 2022
DESCRIPTION:il Natale🎄🎅 si avvicina e anche quest’anno poteva mancare il nostro Country Christmas Party???? 🤩🤩🥳🥳 Una giornata SPECIALISSIMA per stare insieme\, ballare\, mangiare con un OSPITE SPECIALE…… direttamente da Verona per noi Alessandro Boer!!!!!!😍😍😍 e molto altro:\n\n\n📌PREMIAZIONI dell’abbigliamento natalizio più originale e stravagante\n\n\n📌Stage del Ballo di Natale \n\n\n📌 Premi e regalini per tutti!\n\n\n☎️PRENOTA SUBITO AL 347.716.1591\n\n\n#Natale #natale2022 #festadinatale #countrychristmas #occasioni #specialevents #specialevent #gowestballocountry #specialday #special #stage #insieme #country #amici #countrystyle #ballocountry
URL:https://www.gowestlinedance.com/event/country-christmas-party-2022/
LOCATION:Balera Romana\, via Nomentana 1111\, Roma\, 00156\, Italia
END:VEVENT
END:VCALENDAR